BEGIN:VCALENDAR
X-WR-TIMEZONE:Europe/Berlin
X-WR-CALNAME:rbb-Kalender
VERSION:2.0
METHOD:PUBLISH
CALSCALE:GREGORIAN
PRODID:rbb-CMS DAY
BEGIN:VEVENT
CLASS:PUBLIC
URL:http://www.rbb-online.de/content/rbb/rbb/kontraste/ueber_den_tag_hinaus/bildung/abhaengen_oder_abgehaengt.html
DTEND:20061123T214500
DTSTART:20061123T214500
UID:/content/rbb/rbb/kontraste/ueber_den_tag_hinaus/bildung/abhaengen_oder_abgehaengt
DTSTAMP:20140405T221859
DESCRIPTION:Allein erziehend und arm – rund ein Drittel der etwa 5 Millionen Hartz IV-Empfänger sind Mütter, die mit ihren Kindern auf sich allein gestellt sind. Soweit die Statistik. Doch wie kommen die Betroffenen damit zurecht? Hindert sie die staatliche Fürsorge, selbst aktiv zu werden? KONTRASTE hat zwei Frauen begleitet, die versuchen, ihr Leben zwischen Job Center und Kindererziehung in den Griff zu bekommen. Wie schwierig das sein kann, haben unsere Autoren Ulrich Kraetzer und Axel Svehla erfahren.
SUMMARY:Abhängen oder abgehängt werden? Wie allein erziehende Mütter ihr Schicksal selbst in die Hand nehmen
END:VEVENT
END:VCALENDAR
