BEGIN:VCALENDAR
X-WR-TIMEZONE:Europe/Berlin
X-WR-CALNAME:rbb-Kalender
VERSION:2.0
METHOD:PUBLISH
CALSCALE:GREGORIAN
PRODID:rbb-CMS DAY
BEGIN:VEVENT
CLASS:PUBLIC
URL:http://www.rbb-online.de/content/rbb/rbb/kontraste/ueber_den_tag_hinaus/bildung/hartz_iv___ungerechtigkeit.html
DTEND:20091112T214500
DTSTART:20091112T214500
UID:/content/rbb/rbb/kontraste/ueber_den_tag_hinaus/bildung/hartz_iv___ungerechtigkeit
DTSTAMP:20140405T215541
DESCRIPTION:Die neue Regierungskoalition, Schwarz-Gelb hat beschlossen: Hartz-IV-Empfänger können Eigentumswohnungen und Einfamilienhäuser, in denen sie wohnen, behalten, ohne dass ihnen die Zahlungen gekürzt werden. Doch nun zeigt sich: Das ist unbezahlbar und ungerecht. Denn wer zum Beispiel zahlt einem Hartz-IV-Villenbesitzer Reparaturen an seinem Haus?
SUMMARY:Hartz IV – Ungerechtigkeit bei geschontem Vermögen
END:VEVENT
END:VCALENDAR
