BEGIN:VCALENDAR
X-WR-TIMEZONE:Europe/Berlin
X-WR-CALNAME:rbb-Kalender
VERSION:2.0
METHOD:PUBLISH
CALSCALE:GREGORIAN
PRODID:rbb-CMS DAY
BEGIN:VEVENT
CLASS:PUBLIC
URL:http://www.rbb-online.de/content/rbb/rbb/kontraste/ueber_den_tag_hinaus/bildung/proteste_gegen_hartz.html
DTEND:20040826T214500
DTSTART:20040826T214500
UID:/content/rbb/rbb/kontraste/ueber_den_tag_hinaus/bildung/proteste_gegen_hartz
DTSTAMP:20140405T215637
DESCRIPTION:Was in Magdeburg als Bürgerinitiative begann, entwickelt sich zu einer gewaltigen Protestwelle. Enttäuscht vom Staat, gehen Zehntausende jeden Montag auf die Straße und machen ihrem Ärger Luft. Wenn der Staat schon nicht mehr zahlen will, dann soll er wenigstens für Arbeitsplätze sorgen. Olaf Jahn, Susanne Opalka und Kristina Tschenett mischten sich unter die Demonstranten.
SUMMARY:Proteste gegen Hartz IV - Warum vor allem die Ostdeutschen den Vollkasko-Staat wollen
END:VEVENT
END:VCALENDAR
