BEGIN:VCALENDAR
X-WR-TIMEZONE:Europe/Berlin
X-WR-CALNAME:rbb-Kalender
VERSION:2.0
METHOD:PUBLISH
CALSCALE:GREGORIAN
PRODID:rbb-CMS DAY
BEGIN:VEVENT
CLASS:PUBLIC
URL:http://www.rbb-online.de/content/rbb/rbb/kontraste/ueber_den_tag_hinaus/bildung/streit_um_betreuungsgeld.html
DTEND:20091112T214500
DTSTART:20091112T214500
UID:/content/rbb/rbb/kontraste/ueber_den_tag_hinaus/bildung/streit_um_betreuungsgeld
DTSTAMP:20140405T221636
DESCRIPTION:Die CSU hat das Betreuungsgeld für daheim bleibende Kinder im Koalitionsvertrag durchgesetzt - gegen den Widerstand von CDU und FDP. Während Bildungsexperten vor den Folgen vor allem für Kinder aus armen Familien warnen, geht es den Christsozialen um etwas anderes: das katholisch-konservative Ideal der heilen Familie.Dieser Beitrag liegt aus lizenzrechtlichen Gründen nicht als Video vor. 
SUMMARY:Streit um das Betreuungsgeld  - das Familienbild der CSU
END:VEVENT
END:VCALENDAR
