BEGIN:VCALENDAR
X-WR-TIMEZONE:Europe/Berlin
X-WR-CALNAME:rbb-Kalender
VERSION:2.0
METHOD:PUBLISH
CALSCALE:GREGORIAN
PRODID:rbb-CMS DAY
BEGIN:VEVENT
CLASS:PUBLIC
URL:http://www.rbb-online.de/content/rbb/rbb/kontraste/ueber_den_tag_hinaus/bildung/unbewegliche_kinder.html
DTEND:20071220T214500
DTSTART:20071220T214500
UID:/content/rbb/rbb/kontraste/ueber_den_tag_hinaus/bildung/unbewegliche_kinder
DTSTAMP:20140405T220220
DESCRIPTION:Die körperliche Leistungsfähigkeit deutscher Schüler nimmt seit langem ab. Düstere Prognosen sehen gar eine rückläufige Lebenserwartung für die heutige Kindergeneration. Aber niemand fühlt sich verantwortlich. Eltern wissen nicht, wie wichtig Bewegung ist, Lehrer fühlen sich überfordert, die Politik bleibt unbeweglich. Dabei fordern Sportwissenschaftler längst täglichen Sportunterricht. Doch die zuständigen Kultusministerien blockieren Veränderungen. Chris Humbs berichtet.
SUMMARY:Unbewegliche Kinder, dumme Kinder? Zu wenig Sportunterricht in der Schule
END:VEVENT
END:VCALENDAR
