BEGIN:VCALENDAR
X-WR-TIMEZONE:Europe/Berlin
X-WR-CALNAME:rbb-Kalender
VERSION:2.0
METHOD:PUBLISH
CALSCALE:GREGORIAN
PRODID:rbb-CMS DAY
BEGIN:VEVENT
CLASS:PUBLIC
URL:http://www.rbb-online.de/content/rbb/rbb/kontraste/ueber_den_tag_hinaus/bundeswehr/erdrueckende_beweise.html
DTEND:20050210T214500
DTSTART:20050210T214500
UID:/content/rbb/rbb/kontraste/ueber_den_tag_hinaus/bundeswehr/erdrueckende_beweise
DTSTAMP:20140405T215902
DESCRIPTION:Als "Fliegerheld" wurde er im Völkischen Beobachter gefeiert, als "leuchtendes Vorbild deutscher Jugend" gepriesen. Nach seinem Tod wurde Oberst Werner Mölders mit einem Staatsakt in Anwesenheit von Adolf Hitler geehrt. Nach dem Krieg wurde Mölders sogar Namensgeber eines Jagdgeschwaders der deutschen Luftwaffe. Aus und vorbei. Jetzt will das Verteidigungsministerium das Jagdgeschwader 74 umbenennen. Grund: Kontraste fand erdrückende Beweise, dass Mölders kein Held, sondern als Mitglied der „Legion Condor“ an grausamen Kriegsverbrechen beteiligt war.
SUMMARY:Erdrückende Beweise - Warum das Verteidigungsministerium nach einem Kontraste-Beitrag das "Jagdgeschwader 74 Mölders" umbenennt
END:VEVENT
END:VCALENDAR
