BEGIN:VCALENDAR
X-WR-TIMEZONE:Europe/Berlin
X-WR-CALNAME:rbb-Kalender
VERSION:2.0
METHOD:PUBLISH
CALSCALE:GREGORIAN
PRODID:rbb-CMS DAY
BEGIN:VEVENT
CLASS:PUBLIC
URL:http://www.rbb-online.de/content/rbb/rbb/kontraste/ueber_den_tag_hinaus/bundeswehr/merkwuerdige_traditionspflege.html
DTEND:20070607T214500
DTSTART:20070607T214500
UID:/content/rbb/rbb/kontraste/ueber_den_tag_hinaus/bundeswehr/merkwuerdige_traditionspflege
DTSTAMP:20140405T215952
DESCRIPTION:Staatsekretär Christian Schmidt (CSU) hat eine Mission: Er möchte durch eine neue Kampagne einen Fliegerheld der Nationalsozialisten wieder hoffähig machen: Oberst Werner Mölders. Mölders trat freiwillig in die Legion Condor ein, die sich an Kriegsverbrechen beteiligte. Trotzdem trug ein Jagdgeschwader der Bundeswehr viele Jahre den Traditionsnamen Mölders. Erst 2005, nach einem KONTRASTE-Bericht, benannte der damalige Verteidigungsminister Struck die Einheit um.  Doch viele in der Truppe wollen sich auch heute noch damit nicht zufrieden geben. Ihr prominentester Fürsprecher, Christian Schmidt (CSU), ist einer der Stellvertreter des Bundesverteidigungsministers. Alexander Kobylinski und Caroline Walter berichten.
SUMMARY:Merkwürdige Traditionspflege:  Nazi-Held als Vorbild für die Bundeswehr
END:VEVENT
END:VCALENDAR
