BEGIN:VCALENDAR
X-WR-TIMEZONE:Europe/Berlin
X-WR-CALNAME:rbb-Kalender
VERSION:2.0
METHOD:PUBLISH
CALSCALE:GREGORIAN
PRODID:rbb-CMS DAY
BEGIN:VEVENT
CLASS:PUBLIC
URL:http://www.rbb-online.de/content/rbb/rbb/kontraste/ueber_den_tag_hinaus/bundeswehr/ministerium_verzoegert.html
DTEND:20100311T214500
DTSTART:20100311T214500
UID:/content/rbb/rbb/kontraste/ueber_den_tag_hinaus/bundeswehr/ministerium_verzoegert
DTSTAMP:20140405T222413
DESCRIPTION:Der Untersuchungsausschuss des Bundestages soll Licht in die Affäre um das Bombardement von Kundus mit bis zu 142 Toten bringen. Doch Verteidigungsminister zu Guttenberg rückt Akten nur stückweise heraus. Inzwischen beschweren sich alle Fraktionen im Ausschuss über diese Salamitaktik.
SUMMARY:Ministerium verzögert Kundus-Aufklärung – Ausschuss beschwert sich
END:VEVENT
END:VCALENDAR
