BEGIN:VCALENDAR
X-WR-TIMEZONE:Europe/Berlin
X-WR-CALNAME:rbb-Kalender
VERSION:2.0
METHOD:PUBLISH
CALSCALE:GREGORIAN
PRODID:rbb-CMS DAY
BEGIN:VEVENT
CLASS:PUBLIC
URL:http://www.rbb-online.de/content/rbb/rbb/kontraste/ueber_den_tag_hinaus/bundeswehr/neue_raketen_fuer.html
DTEND:20030814T214500
DTSTART:20030814T214500
UID:/content/rbb/rbb/kontraste/ueber_den_tag_hinaus/bundeswehr/neue_raketen_fuer
DTSTAMP:20140405T215826
DESCRIPTION:Es klingt so logisch und einleuchtend. In Zeiten globaler Bedrohungsszenarien wollen sich die Industrienationen angemessen schützen. Mit dem größten transatlantischen Rüstungsprogramm aller Zeiten, mit MEADS, sollte erstmalig auch europäische Technologie weltweit zur Raketenabwehr zum Einsatz kommen. Aber das System ist ineffektiv, viel zu teuer und für Deutschland unbrauchbar. Dennoch hält die deutsche Regierung daran fest. Warum? Antworten von Marcus Weller und Chris Humbs.
SUMMARY:Neue Raketen für die Bundeswehr - wie Milliarden sinnlos verpulvert werden
END:VEVENT
END:VCALENDAR
