BEGIN:VCALENDAR
X-WR-TIMEZONE:Europe/Berlin
X-WR-CALNAME:rbb-Kalender
VERSION:2.0
METHOD:PUBLISH
CALSCALE:GREGORIAN
PRODID:rbb-CMS DAY
BEGIN:VEVENT
CLASS:PUBLIC
URL:http://www.rbb-online.de/content/rbb/rbb/kontraste/ueber_den_tag_hinaus/bundeswehr/wikileaks_und_afghanistan.html
DTEND:20100805T214500
DTSTART:20100805T214500
UID:/content/rbb/rbb/kontraste/ueber_den_tag_hinaus/bundeswehr/wikileaks_und_afghanistan
DTSTAMP:20140405T221959
DESCRIPTION:Das Internet-Portal Wikileaks rühmt sich, geheime Informationen publik zu machen. Der jüngste „Coup“ war die Veröffentlichung tausender US-Akten zum Krieg in Afghanistan. Was Wikileaks als Großtat feiert, gefährdet in Wahrheit das Leben von afghanischen Informanten und stärkt die Taliban. Berichte über deren Terrorakte? Fehlanzeige!
SUMMARY:Wikileaks und Afghanistan - Pressefreiheit oder Kampagne?
END:VEVENT
END:VCALENDAR
