BEGIN:VCALENDAR
X-WR-TIMEZONE:Europe/Berlin
X-WR-CALNAME:rbb-Kalender
VERSION:2.0
METHOD:PUBLISH
CALSCALE:GREGORIAN
PRODID:rbb-CMS DAY
BEGIN:VEVENT
CLASS:PUBLIC
URL:http://www.rbb-online.de/content/rbb/rbb/kontraste/ueber_den_tag_hinaus/demokratie/christian_stroebele.html
DTEND:19980402T214500
DTSTART:19980402T214500
UID:/content/rbb/rbb/kontraste/ueber_den_tag_hinaus/demokratie/christian_stroebele
DTSTAMP:20140405T220145
DESCRIPTION:Ein Porträt des Bundestagskandidaten für Bündnis 90/Die Grünen aus Berlin-Kreuzberg. Der Beitrag zeigt den holprigen Weg eines überzeugten linken Rechtsanwalts zum Politiker: Ein möglicher Stolperstein für ein rot-grünes Bündnis.
SUMMARY:Christian Ströbele: Linker Grüner auf dem Weg zur Macht?
END:VEVENT
END:VCALENDAR
