BEGIN:VCALENDAR
X-WR-TIMEZONE:Europe/Berlin
X-WR-CALNAME:rbb-Kalender
VERSION:2.0
METHOD:PUBLISH
CALSCALE:GREGORIAN
PRODID:rbb-CMS DAY
BEGIN:VEVENT
CLASS:PUBLIC
URL:http://www.rbb-online.de/content/rbb/rbb/kontraste/ueber_den_tag_hinaus/demokratie/demokratie_in_der.html
DTEND:20071011T214500
DTSTART:20071011T214500
UID:/content/rbb/rbb/kontraste/ueber_den_tag_hinaus/demokratie/demokratie_in_der
DTSTAMP:20140405T221818
DESCRIPTION:Die SPD-Führung will auf Biegen und Brechen die Privatisierung der Deutschen Bahn durchsetzen. Dabei ist die Frage, ob die im Grundgesetz verankerte Sicherstellung eines öffentlichen Nahverkehrsnetzes überhaupt privatisiert werden darf, in der SPD weder diskutiert noch beschlossen worden. Wie und warum die Kritiker dieser Art der Privatisierung ausgetrickst und ruhig gestellt werden, zeigt der Bericht von Ursel Sieber.
SUMMARY:Demokratie in der SPD - Kritiker der Bahn-Privatisierung ruhig gestellt
END:VEVENT
END:VCALENDAR
