BEGIN:VCALENDAR
X-WR-TIMEZONE:Europe/Berlin
X-WR-CALNAME:rbb-Kalender
VERSION:2.0
METHOD:PUBLISH
CALSCALE:GREGORIAN
PRODID:rbb-CMS DAY
BEGIN:VEVENT
CLASS:PUBLIC
URL:http://www.rbb-online.de/content/rbb/rbb/kontraste/ueber_den_tag_hinaus/demokratie/fluegelstreit_spd.html
DTEND:20091001T214500
DTSTART:20091001T214500
UID:/content/rbb/rbb/kontraste/ueber_den_tag_hinaus/demokratie/fluegelstreit_spd
DTSTAMP:20140405T215656
DESCRIPTION:Nach dem Debakel bei der Bundestagswahl steht die SPD noch immer unter Schock. Zwar scheinen die wichtigsten Personalfragen inzwischen geklärt – aber wie es weitergehen soll nach dem Verlust von sechs Millionen Wählerstimmen, ist vielen Genossen völlig unklar. Nicht alle wollen einen Linksruck. Wir haben zwei junge SPD-Bundestagsabgeordnete am Tag der ersten Fraktionssitzung begleitet.
SUMMARY:Flügelstreit - Treibt die SPD nach links?
END:VEVENT
END:VCALENDAR
