BEGIN:VCALENDAR
X-WR-TIMEZONE:Europe/Berlin
X-WR-CALNAME:rbb-Kalender
VERSION:2.0
METHOD:PUBLISH
CALSCALE:GREGORIAN
PRODID:rbb-CMS DAY
BEGIN:VEVENT
CLASS:PUBLIC
URL:http://www.rbb-online.de/content/rbb/rbb/kontraste/ueber_den_tag_hinaus/demokratie/gestern_abgewaehlt.html
DTEND:20060302T214500
DTSTART:20060302T214500
UID:/content/rbb/rbb/kontraste/ueber_den_tag_hinaus/demokratie/gestern_abgewaehlt
DTSTAMP:20140405T220110
DESCRIPTION:Wer als Spitzenpolitiker Karriere macht, kann sich im Anschluss an die aktive Laufbahn eine goldene Nase verdienen. Ex-Politiker sind gefragt als Berater, Lobbyisten und Türöffner in der globalisierten Wirtschaft. Problematisch und moralisch fragwürdig wird das Ganze allerdings, wenn man hinterher dort sein Geld verdient, wo man vorher politischer Wegbereiter war. Steffen Mayer und Susanne Opalka über das Geben und Nehmen in der deutschen Politik.
SUMMARY:Gestern abgewählt, heute eingekauft – wie Politiker schamlos ihr Insiderwissen vermarkten
END:VEVENT
END:VCALENDAR
