BEGIN:VCALENDAR
X-WR-TIMEZONE:Europe/Berlin
X-WR-CALNAME:rbb-Kalender
VERSION:2.0
METHOD:PUBLISH
CALSCALE:GREGORIAN
PRODID:rbb-CMS DAY
BEGIN:VEVENT
CLASS:PUBLIC
URL:http://www.rbb-online.de/content/rbb/rbb/kontraste/ueber_den_tag_hinaus/demokratie/parteispenden_neue.html
DTEND:20010301T214500
DTSTART:20010301T214500
UID:/content/rbb/rbb/kontraste/ueber_den_tag_hinaus/demokratie/parteispenden_neue
DTSTAMP:20140405T220327
DESCRIPTION:Nach Recherchen von KONTRASTE hat der Berliner CDU-Fraktionsvorsitzende Klaus-Rüdiger Landowsky die Barspende der Aubis-Geschäftsführer 1995 selbst angeregt. Interne Dokumente der Berlin Hyp belegen zudem, es gab erhebliche Zweifel an der Kreditwürdigkeit der Aubis-Gruppe.
SUMMARY:Parteispenden: Neue Vorwürfe gegen den mächtigsten Mann der Berliner CDU
END:VEVENT
END:VCALENDAR
