BEGIN:VCALENDAR
X-WR-TIMEZONE:Europe/Berlin
X-WR-CALNAME:rbb-Kalender
VERSION:2.0
METHOD:PUBLISH
CALSCALE:GREGORIAN
PRODID:rbb-CMS DAY
BEGIN:VEVENT
CLASS:PUBLIC
URL:http://www.rbb-online.de/content/rbb/rbb/kontraste/ueber_den_tag_hinaus/demokratie/wahlkampf_mit_wirkungslosem.html
DTEND:20090917T214500
DTSTART:20090917T214500
UID:/content/rbb/rbb/kontraste/ueber_den_tag_hinaus/demokratie/wahlkampf_mit_wirkungslosem
DTSTAMP:20140405T221717
DESCRIPTION:Im TV-Duell Merkel gegen Steinmeier waren sie ein großes Thema: die Manager und ihr Versagen in der Finanz- und Wirtschaftskrise. Die Politik will Härte zeigen. So beschloss der Bundestag, dass Manager für von ihnen angerichtete Schäden mit einem Selbstbehalt haften sollen. Doch findige Versicherungen bieten inzwischen dagegen Schutz.
SUMMARY:Wahlkampf mit wirkungslosem  Gesetz – Manager mit beschränkter Haftung
END:VEVENT
END:VCALENDAR
