BEGIN:VCALENDAR
X-WR-TIMEZONE:Europe/Berlin
X-WR-CALNAME:rbb-Kalender
VERSION:2.0
METHOD:PUBLISH
CALSCALE:GREGORIAN
PRODID:rbb-CMS DAY
BEGIN:VEVENT
CLASS:PUBLIC
URL:http://www.rbb-online.de/content/rbb/rbb/kontraste/ueber_den_tag_hinaus/demokratie/westlb_neue_vorwuerfe.html
DTEND:20000309T214500
DTSTART:20000309T214500
UID:/content/rbb/rbb/kontraste/ueber_den_tag_hinaus/demokratie/westlb_neue_vorwuerfe
DTSTAMP:20140405T220353
DESCRIPTION:Nach KONTRASTE-Recherchen war der nordrhein-westfälischen Landesregierung schon 1997 klar, daß der "Flugservice" der WestLB für Regierungsmitglieder steuerrechtlich fragwürdig ist.
SUMMARY:WestLB: Neue Vorwürfe in der Flugaffäre des heutigen Bundespräsidenten Johannes Rau
END:VEVENT
END:VCALENDAR
