BEGIN:VCALENDAR
X-WR-TIMEZONE:Europe/Berlin
X-WR-CALNAME:rbb-Kalender
VERSION:2.0
METHOD:PUBLISH
CALSCALE:GREGORIAN
PRODID:rbb-CMS DAY
BEGIN:VEVENT
CLASS:PUBLIC
URL:http://www.rbb-online.de/content/rbb/rbb/kontraste/ueber_den_tag_hinaus/diktaturen/armes_deutschland.html
DTEND:20041028T214500
DTSTART:20041028T214500
UID:/content/rbb/rbb/kontraste/ueber_den_tag_hinaus/diktaturen/armes_deutschland
DTSTAMP:20140405T222314
DESCRIPTION:Zum 50jährigen Jubiläum trifft sich die Ordensgemeinschaft der Ritterkreuzträger. Ein Verein von hoch dekorierten Wehrmachtsoldaten. Das Ritterkreuz – ein Orden von Hitler eingeführt, oft persönlich verliehen. Für besondere Tapferkeit gegen den Feind. Kaum mehr als 7000 Wehrmachtsoldaten haben ihn erhalten. Diese Ritterkreuzträger sind heute Idole für junge Rechte und Skinheads. Roland Jahn und Caroline Walter über eine sehr lebendige Szene um die langsam aussterbenden Ritterkreuzträger.
SUMMARY:Armes Deutschland – Hitlers Ritterkreuzträger feiern die eigene Tapferkeit
END:VEVENT
END:VCALENDAR
