BEGIN:VCALENDAR
X-WR-TIMEZONE:Europe/Berlin
X-WR-CALNAME:rbb-Kalender
VERSION:2.0
METHOD:PUBLISH
CALSCALE:GREGORIAN
PRODID:rbb-CMS DAY
BEGIN:VEVENT
CLASS:PUBLIC
URL:http://www.rbb-online.de/content/rbb/rbb/kontraste/ueber_den_tag_hinaus/diktaturen/das_problem_mit_der.html
DTEND:20070830T214500
DTSTART:20070830T214500
UID:/content/rbb/rbb/kontraste/ueber_den_tag_hinaus/diktaturen/das_problem_mit_der
DTSTAMP:20140405T221134
DESCRIPTION:„Jude verrecke“, „Heil Hitler“, Hakenkreuze. Diese Nazischmierereien finden sich in einer öffentlich zugänglichen Bunkeranlage auf dem Obersalzberg im Berchtesgadener Land. Eine Pilgerstätte für Neonazis. Doch die bayerische Staatsregierung bleibt untätig. Und nicht nur bei diesem Problem: Auch das staatliche Dokumentationszentrum auf dem Obersalzberg schlägt Alarm – wegen Mangel an Fachpersonal. Alexander Kobylinski und Caroline Walter sind der Sache nachgegangen.
SUMMARY:Das Problem mit der Vergangenheit – der Obersalzberg
END:VEVENT
END:VCALENDAR
