BEGIN:VCALENDAR
X-WR-TIMEZONE:Europe/Berlin
X-WR-CALNAME:rbb-Kalender
VERSION:2.0
METHOD:PUBLISH
CALSCALE:GREGORIAN
PRODID:rbb-CMS DAY
BEGIN:VEVENT
CLASS:PUBLIC
URL:http://www.rbb-online.de/content/rbb/rbb/kontraste/ueber_den_tag_hinaus/diktaturen/flick_gymnasium.html
DTEND:20080529T214500
DTSTART:20080529T214500
UID:/content/rbb/rbb/kontraste/ueber_den_tag_hinaus/diktaturen/flick_gymnasium
DTSTAMP:20140405T215746
DESCRIPTION:Er war Mitglied der NSDAP, trieb die Enteignung von Juden voran und beschäftigte tausende Zwangsarbeiter unter schlimmsten Bedingungen: Der verurteilte Kriegsverbrecher Friedrich Flick. Trotz seines immensen Reichtums verweigerte er nach dem Krieg jegliche Entschädigung und zeigte keine Reue. Dennoch trägt ein Gymnasium in Kreuztal bei Siegen bis heute seinen Namen. Schüler fordern zwar eine Umbenennung. Schulleiter und Politik aber wollen Flick weiter als Namenspatron ehren. Chris Humbs berichtet.
SUMMARY:Flick-Gymnasium – Ehrung eines Kriegsverbrechers
END:VEVENT
END:VCALENDAR
