BEGIN:VCALENDAR
X-WR-TIMEZONE:Europe/Berlin
X-WR-CALNAME:rbb-Kalender
VERSION:2.0
METHOD:PUBLISH
CALSCALE:GREGORIAN
PRODID:rbb-CMS DAY
BEGIN:VEVENT
CLASS:PUBLIC
URL:http://www.rbb-online.de/content/rbb/rbb/kontraste/ueber_den_tag_hinaus/diktaturen/kriegsverbrechen.html
DTEND:20110113T214500
DTSTART:20110113T214500
UID:/content/rbb/rbb/kontraste/ueber_den_tag_hinaus/diktaturen/kriegsverbrechen
DTSTAMP:20140405T221935
DESCRIPTION:Mehr als 10.000 italienische Zivilisten fielen im Zweiten Weltkrieg Kriegsverbrechen von Wehrmacht und SS zum Opfer. Sie haben vor Gericht Entschädigung erstritten. Doch die Bundesregierung weigert sich, die Forderungen anzuerkennen.
SUMMARY:Kriegsverbrechen - Bundesregierung blockiert Entschädigungen
END:VEVENT
END:VCALENDAR
