BEGIN:VCALENDAR
X-WR-TIMEZONE:Europe/Berlin
X-WR-CALNAME:rbb-Kalender
VERSION:2.0
METHOD:PUBLISH
CALSCALE:GREGORIAN
PRODID:rbb-CMS DAY
BEGIN:VEVENT
CLASS:PUBLIC
URL:http://www.rbb-online.de/content/rbb/rbb/kontraste/ueber_den_tag_hinaus/diktaturen/opfer_oder_taeter.html
DTEND:20100114T220000
DTSTART:20100114T220000
UID:/content/rbb/rbb/kontraste/ueber_den_tag_hinaus/diktaturen/opfer_oder_taeter
DTSTAMP:20140405T215754
DESCRIPTION:Wer als Häftling im DDR-Gefängnis für die Stasi gespitzelt hat, dem wird die Haftentschädigung gestrichen – das erscheint nur gerecht. Doch im Einzelfall prüfen die Behörden oft nicht, was die so genannten „Zellen-Informatoren“ selbst erleiden mussten. Gibt es „gute“ und „schlechte“ Häftlinge? Wo ist die Grenze zu ziehen?
SUMMARY:Opfer oder Täter – Haftentschädigung für Stasi-Spitzel?
END:VEVENT
END:VCALENDAR
