BEGIN:VCALENDAR
X-WR-TIMEZONE:Europe/Berlin
X-WR-CALNAME:rbb-Kalender
VERSION:2.0
METHOD:PUBLISH
CALSCALE:GREGORIAN
PRODID:rbb-CMS DAY
BEGIN:VEVENT
CLASS:PUBLIC
URL:http://www.rbb-online.de/content/rbb/rbb/kontraste/ueber_den_tag_hinaus/diktaturen/raubkunst_im_bundestag.html
DTEND:20091112T214500
DTSTART:20091112T214500
UID:/content/rbb/rbb/kontraste/ueber_den_tag_hinaus/diktaturen/raubkunst_im_bundestag
DTSTAMP:20140405T222014
DESCRIPTION:Kaum fassbar: Raubkunst schmückt den Deutschen Bundestag. Mindestens ein Gemälde aus der Sammlung des jüdischstämmigen Bankiers Gutmann befindet sich im Besitz des Parlaments. Gutmann hatte es zur Zeit des Nationalsozialismus zwangsversteigern müssen. Es wird den Erben jetzt zurückgegeben. Doch für diesen Schritt bedurfte es offenbar erheblichen Druckes.
SUMMARY:Raubkunst im Bundestag – Hinterbliebene erhalten Bild zurück
END:VEVENT
END:VCALENDAR
