BEGIN:VCALENDAR
X-WR-TIMEZONE:Europe/Berlin
X-WR-CALNAME:rbb-Kalender
VERSION:2.0
METHOD:PUBLISH
CALSCALE:GREGORIAN
PRODID:rbb-CMS DAY
BEGIN:VEVENT
CLASS:PUBLIC
URL:http://www.rbb-online.de/content/rbb/rbb/kontraste/ueber_den_tag_hinaus/diktaturen/vergessene_ns_opfer.html
DTEND:20100527T214500
DTSTART:20100527T214500
UID:/content/rbb/rbb/kontraste/ueber_den_tag_hinaus/diktaturen/vergessene_ns_opfer
DTSTAMP:20140405T220120
DESCRIPTION:Das so genannte "Gesetz zur Verhütung erbkranken Nachwuchses" war das erste Rassengesetz der Nationalsozialisten. Hunderttausende wurden zwangssterilisiert, vergast, zu Tode gehungert. Die Überlebenden kämpfen bis heute um ihre Anerkennung als NS-Opfer und eine Entschädigung.
SUMMARY:Vergessene NS-Opfer – Zwangssterilisierte kämpfen um ihr Recht
END:VEVENT
END:VCALENDAR
