BEGIN:VCALENDAR
X-WR-TIMEZONE:Europe/Berlin
X-WR-CALNAME:rbb-Kalender
VERSION:2.0
METHOD:PUBLISH
CALSCALE:GREGORIAN
PRODID:rbb-CMS DAY
BEGIN:VEVENT
CLASS:PUBLIC
URL:http://www.rbb-online.de/content/rbb/rbb/kontraste/ueber_den_tag_hinaus/diktaturen/vor_dem_urteil_der.html
DTEND:19970821T214500
DTSTART:19970821T214500
UID:/content/rbb/rbb/kontraste/ueber_den_tag_hinaus/diktaturen/vor_dem_urteil_der
DTSTAMP:20140405T215608
DESCRIPTION:Der Politbüroprozeß kurz vor der Urteilsverkündung gegen Kleiber, Krenz und Schabowski.
SUMMARY:Vor dem Urteil: Der Politbüroprozeß
END:VEVENT
END:VCALENDAR
