BEGIN:VCALENDAR
X-WR-TIMEZONE:Europe/Berlin
X-WR-CALNAME:rbb-Kalender
VERSION:2.0
METHOD:PUBLISH
CALSCALE:GREGORIAN
PRODID:rbb-CMS DAY
BEGIN:VEVENT
CLASS:PUBLIC
URL:http://www.rbb-online.de/content/rbb/rbb/kontraste/ueber_den_tag_hinaus/diktaturen/zuwenig_milliarden.html
DTEND:20000608T214500
DTSTART:20000608T214500
UID:/content/rbb/rbb/kontraste/ueber_den_tag_hinaus/diktaturen/zuwenig_milliarden
DTSTAMP:20140405T221121
DESCRIPTION:Nur zögerlich zahlen deutsche Unternehmen in den Fond, aus dem die Zwangsarbeiter entschädigt werden sollen. Fast zwei Milliarden fehlen. Keine Ausrede scheint inzwischen zu dumm, um das Zögern zu entschuldigen: Viele deutsche Firmen, die z.B. von amerikanischen Firmen gekauft werde, erklären sich selbst zu Opfern.
SUMMARY:Zuwenig Milliarden für Zwangsarbeiter - Neue Ausreden der deutschen Industrie
END:VEVENT
END:VCALENDAR
