BEGIN:VCALENDAR
X-WR-TIMEZONE:Europe/Berlin
X-WR-CALNAME:rbb-Kalender
VERSION:2.0
METHOD:PUBLISH
CALSCALE:GREGORIAN
PRODID:rbb-CMS DAY
BEGIN:VEVENT
CLASS:PUBLIC
URL:http://www.rbb-online.de/content/rbb/rbb/kontraste/ueber_den_tag_hinaus/extremisten/angst_vor_gewalt.html
DTEND:20020502T214500
DTSTART:20020502T214500
UID:/content/rbb/rbb/kontraste/ueber_den_tag_hinaus/extremisten/angst_vor_gewalt
DTSTAMP:20140405T221615
DESCRIPTION:Als politische Demonstration gestartet und als sinnlose Gewaltorgie geendet. Der "Revolutionäre 1.Mai" hat seine politischen Wurzeln gekappt. Friedhelm Brebeck macht sich im umkämpften Kreuzberg auf die Suche nach einer politischen Idee.
SUMMARY:Angst vor Gewalt - Warum immer wieder Randale am 1.Mai?
END:VEVENT
END:VCALENDAR
