BEGIN:VCALENDAR
X-WR-TIMEZONE:Europe/Berlin
X-WR-CALNAME:rbb-Kalender
VERSION:2.0
METHOD:PUBLISH
CALSCALE:GREGORIAN
PRODID:rbb-CMS DAY
BEGIN:VEVENT
CLASS:PUBLIC
URL:http://www.rbb-online.de/content/rbb/rbb/kontraste/ueber_den_tag_hinaus/extremisten/anschlag_auf_polizisten.html
DTEND:20100715T220000
DTSTART:20100715T220000
UID:/content/rbb/rbb/kontraste/ueber_den_tag_hinaus/extremisten/anschlag_auf_polizisten
DTSTAMP:20140405T215939
DESCRIPTION:Linksextremisten rufen immer öfter zu Gewalt auf. Bei einer Demo gegen das Sparpaket der Bundesregierung wurden am 12. Juni 2010 14 Polizisten durch einen Sprengsatz verletzt. Als Mitveranstalter distanzieren sich die Linke und die Gewerkschaft ver.di nicht von gewaltbereiten Gruppen. Ihnen ist ein breites Bündnis gegen die Regierung wichtiger.
SUMMARY:Anschlag auf Polizisten – die Linke und die Gewaltfrage
END:VEVENT
END:VCALENDAR
