BEGIN:VCALENDAR
X-WR-TIMEZONE:Europe/Berlin
X-WR-CALNAME:rbb-Kalender
VERSION:2.0
METHOD:PUBLISH
CALSCALE:GREGORIAN
PRODID:rbb-CMS DAY
BEGIN:VEVENT
CLASS:PUBLIC
URL:http://www.rbb-online.de/content/rbb/rbb/kontraste/ueber_den_tag_hinaus/extremisten/bei_notruf_in_der.html
DTEND:20050728T214500
DTSTART:20050728T214500
UID:/content/rbb/rbb/kontraste/ueber_den_tag_hinaus/extremisten/bei_notruf_in_der
DTSTAMP:20140405T220621
DESCRIPTION:Vier Jahre nach ihrem Verbot und zwei Jahre nach einer Prozessserie formieren sich die militanten Mitglieder der "Skinheads Sächsische Schweiz" erneut konspirativ. "Nicht nur zum Biertrinken", sagt der zuständige Staatsanwalt. In letzter Zeit häufen sich wieder Überfälle von Rechtsradikalen. Deren Opfer fühlen sich von der Polizei nicht ernst genommen und im Stich gelassen. Alexander Kobylinski und Caroline Walter über eine Polizei, die im Kampf gegen den Rechtsextremismus offensichtlich kapituliert hat.
SUMMARY:Bei Notruf in der Warteschlange – Polizei in Pirna liefert Bürger gewalttätigen Rechtsextremisten aus
END:VEVENT
END:VCALENDAR
