BEGIN:VCALENDAR
X-WR-TIMEZONE:Europe/Berlin
X-WR-CALNAME:rbb-Kalender
VERSION:2.0
METHOD:PUBLISH
CALSCALE:GREGORIAN
PRODID:rbb-CMS DAY
BEGIN:VEVENT
CLASS:PUBLIC
URL:http://www.rbb-online.de/content/rbb/rbb/kontraste/ueber_den_tag_hinaus/extremisten/bekaempfen_statt_verleugnen.html
DTEND:20060504T214500
DTSTART:20060504T214500
UID:/content/rbb/rbb/kontraste/ueber_den_tag_hinaus/extremisten/bekaempfen_statt_verleugnen
DTSTAMP:20140405T215727
DESCRIPTION:Nicht nur im Osten gibt es Rechtsextremismus, auch in den Städten Westdeutschlands kennt man das Problem. Im niedersächsischen Verden an der Aller haben die Rechtsextremen jahrelang versucht Fuß zu fassen. Schließlich hat es den Bürgern gereicht: Alle bekämpfen phantasievoll die Rechtsextremen, berichten Gabi Probst und Axel Svehla.
SUMMARY:Bekämpfen statt Verleugnen: Wie eine Stadt mit der rechtsextremen Gefahr umgeht
END:VEVENT
END:VCALENDAR
