BEGIN:VCALENDAR
X-WR-TIMEZONE:Europe/Berlin
X-WR-CALNAME:rbb-Kalender
VERSION:2.0
METHOD:PUBLISH
CALSCALE:GREGORIAN
PRODID:rbb-CMS DAY
BEGIN:VEVENT
CLASS:PUBLIC
URL:http://www.rbb-online.de/content/rbb/rbb/kontraste/ueber_den_tag_hinaus/extremisten/die_polizei_und_das.html
DTEND:19980402T214500
DTSTART:19980402T214500
UID:/content/rbb/rbb/kontraste/ueber_den_tag_hinaus/extremisten/die_polizei_und_das
DTSTAMP:20140405T221535
DESCRIPTION:Danny Dahlig, 15 jähriger Schüler aus Angermünde, mußte 4 Tage in den Knast. Eine vorbeugende Maßnahme. Grundlage: Das Brandenburgische Polizeigesetz. Der Beitrag untersucht die fragwürdige Aktion und zeigt die Argumente der Beteiligten.
SUMMARY:Die Polizei und das Gesetz: Kein Rechtstaat für Radikale?
END:VEVENT
END:VCALENDAR
