BEGIN:VCALENDAR
X-WR-TIMEZONE:Europe/Berlin
X-WR-CALNAME:rbb-Kalender
VERSION:2.0
METHOD:PUBLISH
CALSCALE:GREGORIAN
PRODID:rbb-CMS DAY
BEGIN:VEVENT
CLASS:PUBLIC
URL:http://www.rbb-online.de/content/rbb/rbb/kontraste/ueber_den_tag_hinaus/extremisten/ein_richter_gegen.html
DTEND:20001005T214500
DTSTART:20001005T214500
UID:/content/rbb/rbb/kontraste/ueber_den_tag_hinaus/extremisten/ein_richter_gegen
DTSTAMP:20140405T221314
DESCRIPTION:Bis vor kurzem galt das brandenburgische Bernau als ein Hort von rechtradikalen Jugendlichen. Durch kluge Anwendung bestehender Gesetze hat sich nun ein Richter gegen die Neonazis durchgesetzt: Nicht als Richter gnadenlos, sondern durch schnelle und sehr gezielte Maßnahmen.
SUMMARY:Ein Richter gegen Neonazis: Rechtradikale unter Kontrolle
END:VEVENT
END:VCALENDAR
