BEGIN:VCALENDAR
X-WR-TIMEZONE:Europe/Berlin
X-WR-CALNAME:rbb-Kalender
VERSION:2.0
METHOD:PUBLISH
CALSCALE:GREGORIAN
PRODID:rbb-CMS DAY
BEGIN:VEVENT
CLASS:PUBLIC
URL:http://www.rbb-online.de/content/rbb/rbb/kontraste/ueber_den_tag_hinaus/extremisten/freispruch_fuer_rechtsextreme.html
DTEND:20081023T214500
DTSTART:20081023T214500
UID:/content/rbb/rbb/kontraste/ueber_den_tag_hinaus/extremisten/freispruch_fuer_rechtsextreme
DTSTAMP:20140405T215430
DESCRIPTION:Sie übte in einer ganzen Region Terror aus: Die rechtsextremistische Vereinigung „Sturm 34“. Ihre Überfälle waren organisiert, ihr politisches Ziel war die Schaffung einer „national befreiten Zone“. Doch jetzt gab es Freisprüche von der Justiz: „Sturm 34“ sei keine kriminelle Vereinigung. Caroline Walter und Alexander Kobylinski über eine Justiz, die in die Kritik gerät.
SUMMARY:Freispruch für Rechtsextreme – Sachsens Justiz in der Kritik
END:VEVENT
END:VCALENDAR
