BEGIN:VCALENDAR
X-WR-TIMEZONE:Europe/Berlin
X-WR-CALNAME:rbb-Kalender
VERSION:2.0
METHOD:PUBLISH
CALSCALE:GREGORIAN
PRODID:rbb-CMS DAY
BEGIN:VEVENT
CLASS:PUBLIC
URL:http://www.rbb-online.de/content/rbb/rbb/kontraste/ueber_den_tag_hinaus/extremisten/juedische_kinder_unter.html
DTEND:20061123T214500
DTSTART:20061123T214500
UID:/content/rbb/rbb/kontraste/ueber_den_tag_hinaus/extremisten/juedische_kinder_unter
DTSTAMP:20140405T215317
DESCRIPTION:Sie lebt mitten in Berlin, und sie hat Angst. Angst vor arabisch-stämmigen Jugendlichen, die sie bedrohen, weil sie Jüdin ist. Mit dem israelisch-libanesischen Krieg haben die verbalen Attacken gegen Juden zugenommen. Die Anfeindungen gingen so weit, dass sich das Mädchen eine Zeit lang nur noch unter Polizeischutz zur Schule traute. Ein Bericht von Gabi Probst.
SUMMARY:Jüdische Kinder unter Polizeischutz
END:VEVENT
END:VCALENDAR
