BEGIN:VCALENDAR
X-WR-TIMEZONE:Europe/Berlin
X-WR-CALNAME:rbb-Kalender
VERSION:2.0
METHOD:PUBLISH
CALSCALE:GREGORIAN
PRODID:rbb-CMS DAY
BEGIN:VEVENT
CLASS:PUBLIC
URL:http://www.rbb-online.de/content/rbb/rbb/kontraste/ueber_den_tag_hinaus/extremisten/neonazis_als_friedensengel.html
DTEND:20030410T214500
DTSTART:20030410T214500
UID:/content/rbb/rbb/kontraste/ueber_den_tag_hinaus/extremisten/neonazis_als_friedensengel
DTSTAMP:20140405T220158
DESCRIPTION:Da wundert sich das Friedensbündnis. Plötzlich marschiert die NPD auf den Antikriegs-Demos mit. "Kein Blut für die USA" steht auf den Handzetteln. Die Transparente sind mit "Boykott den Kriegstreibern!" bedruckt. Friedensaktivisten sind empört, sich auf einmal Seite an Seite mit Rechtsradikalen wieder zu finden. Darf das sein? Ist das gelebte Demokratie? Michael Beyer und Roland Jahn über deutsche Demokraten im Härtetest.
SUMMARY:Neonazis als Friedensengel - Die neue Antikriegs-Allianz
END:VEVENT
END:VCALENDAR
