BEGIN:VCALENDAR
X-WR-TIMEZONE:Europe/Berlin
X-WR-CALNAME:rbb-Kalender
VERSION:2.0
METHOD:PUBLISH
CALSCALE:GREGORIAN
PRODID:rbb-CMS DAY
BEGIN:VEVENT
CLASS:PUBLIC
URL:http://www.rbb-online.de/content/rbb/rbb/kontraste/ueber_den_tag_hinaus/extremisten/ratlos_in_rathenow_0.html
DTEND:20000330T214500
DTSTART:20000330T214500
UID:/content/rbb/rbb/kontraste/ueber_den_tag_hinaus/extremisten/ratlos_in_rathenow_0
DTSTAMP:20140405T222133
DESCRIPTION:In der Sendung vom 9. März berichtete Kontraste über ausländerfeindliche und rassistische Gesinnung vor allem junger Menschen im brandenburgischen Rathenow. Bürger und Bürgermeister zeigten sich empört. Jetzt diskutierte die Kontraste-Redaktion mit den Rathenowern.
SUMMARY:Ratlos in Rathenow - Die Diskussion
END:VEVENT
END:VCALENDAR
