BEGIN:VCALENDAR
X-WR-TIMEZONE:Europe/Berlin
X-WR-CALNAME:rbb-Kalender
VERSION:2.0
METHOD:PUBLISH
CALSCALE:GREGORIAN
PRODID:rbb-CMS DAY
BEGIN:VEVENT
CLASS:PUBLIC
URL:http://www.rbb-online.de/content/rbb/rbb/kontraste/ueber_den_tag_hinaus/extremisten/rechtsextremismus.html
DTEND:19990318T214500
DTSTART:19990318T214500
UID:/content/rbb/rbb/kontraste/ueber_den_tag_hinaus/extremisten/rechtsextremismus
DTSTAMP:20140405T220648
DESCRIPTION:Der Kriminologe Christian Pfeiffer verärgert die ostdeutschen Bürger. Der Kern der Empörung: Ist die Erziehung in der DDR verantwortlich für Ausländerhaß und rechte Gewalt in den neuen Bundesländern?
SUMMARY:Rechtsextremismus und Fremdenfeindlickeit: Ist die DDR-Erziehung schuld?
END:VEVENT
END:VCALENDAR
