BEGIN:VCALENDAR
X-WR-TIMEZONE:Europe/Berlin
X-WR-CALNAME:rbb-Kalender
VERSION:2.0
METHOD:PUBLISH
CALSCALE:GREGORIAN
PRODID:rbb-CMS DAY
BEGIN:VEVENT
CLASS:PUBLIC
URL:http://www.rbb-online.de/content/rbb/rbb/kontraste/ueber_den_tag_hinaus/extremisten/schlaeger_hetzer.html
DTEND:19981203T214500
DTSTART:19981203T214500
UID:/content/rbb/rbb/kontraste/ueber_den_tag_hinaus/extremisten/schlaeger_hetzer
DTSTAMP:20140405T215552
DESCRIPTION:Seit Jahren terrorisiert eine rechte Jugendszene im sächsischen Wurzen Andersdenkende. Die Stadt ist eine Hochburg der NPD. Der Bericht gibt Einblicke in die rechtsradikale Szene, ihre neue Strategie und ihre Opfer. Erst jetzt entwickelt die Polizei Gegenstrategien.
SUMMARY:Schläger, Hetzer und Ideologen in Sachsen: Kulturrevolution von rechts ?
END:VEVENT
END:VCALENDAR
