BEGIN:VCALENDAR
X-WR-TIMEZONE:Europe/Berlin
X-WR-CALNAME:rbb-Kalender
VERSION:2.0
METHOD:PUBLISH
CALSCALE:GREGORIAN
PRODID:rbb-CMS DAY
BEGIN:VEVENT
CLASS:PUBLIC
URL:http://www.rbb-online.de/content/rbb/rbb/kontraste/ueber_den_tag_hinaus/extremisten/testwahl_unter_erstwaehlern.html
DTEND:19980514T214500
DTSTART:19980514T214500
UID:/content/rbb/rbb/kontraste/ueber_den_tag_hinaus/extremisten/testwahl_unter_erstwaehlern
DTSTAMP:20140405T221359
DESCRIPTION:Die DVU ist mit 12,9% in den Landtag von Sachsen-Anhalt eingezogen. Vor allem Jung- und Erstwähler gaben den Rechtsextremen ihre Stimme. KONTRASTE wollte wissen, wie sich brandenburger Jungwähler entscheiden würden. Ergebnis: Rechtsradikale liegen auch hier im Trend.
SUMMARY:Testwahl unter Erstwählern: Wie rechts ist die Jugend in Ostdeutschland?
END:VEVENT
END:VCALENDAR
