BEGIN:VCALENDAR
X-WR-TIMEZONE:Europe/Berlin
X-WR-CALNAME:rbb-Kalender
VERSION:2.0
METHOD:PUBLISH
CALSCALE:GREGORIAN
PRODID:rbb-CMS DAY
BEGIN:VEVENT
CLASS:PUBLIC
URL:http://www.rbb-online.de/content/rbb/rbb/kontraste/ueber_den_tag_hinaus/extremisten/von_neonazis_fast.html
DTEND:20060323T214500
DTSTART:20060323T214500
UID:/content/rbb/rbb/kontraste/ueber_den_tag_hinaus/extremisten/von_neonazis_fast
DTSTAMP:20140405T221459
DESCRIPTION:Das schöne Sachsen-Anhalt eine Schutzhütte für rechtsextreme Schläger? Diese Unterstellung weisen verantwortliche Landespolitiker weit von sich. Schnell und konsequent gehe man im Lande gegen rechtsradikale Straftäter vor. Justizminister Becker (CDU) behauptet gar: „Wir greifen erbarmungslos zu!“.  Doch davon ist nicht viel zu spüren. Einige gewalttätige Rechtsextreme werden in Sachsen-Anhalt immer noch mit Samthandschuhen angefasst, das haben die KONTRASTE-Reporter Caroline Walter und Alexander Kobylinski erfahren.
SUMMARY:Von Neonazis fast zu Tode geprügelt – versagt die Justiz in Sachsen-Anhalt?
END:VEVENT
END:VCALENDAR
