BEGIN:VCALENDAR
X-WR-TIMEZONE:Europe/Berlin
X-WR-CALNAME:rbb-Kalender
VERSION:2.0
METHOD:PUBLISH
CALSCALE:GREGORIAN
PRODID:rbb-CMS DAY
BEGIN:VEVENT
CLASS:PUBLIC
URL:http://www.rbb-online.de/content/rbb/rbb/kontraste/ueber_den_tag_hinaus/gesundheit/aerztepfusch.html
DTEND:20090709T214500
DTSTART:20090709T214500
UID:/content/rbb/rbb/kontraste/ueber_den_tag_hinaus/gesundheit/aerztepfusch
DTSTAMP:20140405T221746
DESCRIPTION:Wenn Ärzte pfuschen, ist das nicht immer sofort offensichtlich. Viele verschweigen ihre Fehler. Folge: Die Krankenkassen kommen nicht an die Beweise heran und müssen für den Schaden aufkommen – und damit letztlich der Beitragszahler.
SUMMARY:Ärztepfusch – Milliardenschäden für Krankenkassen
END:VEVENT
END:VCALENDAR
