BEGIN:VCALENDAR
X-WR-TIMEZONE:Europe/Berlin
X-WR-CALNAME:rbb-Kalender
VERSION:2.0
METHOD:PUBLISH
CALSCALE:GREGORIAN
PRODID:rbb-CMS DAY
BEGIN:VEVENT
CLASS:PUBLIC
URL:http://www.rbb-online.de/content/rbb/rbb/kontraste/ueber_den_tag_hinaus/gesundheit/anti_schimmelmittel.html
DTEND:20091203T220000
DTSTART:20091203T220000
UID:/content/rbb/rbb/kontraste/ueber_den_tag_hinaus/gesundheit/anti_schimmelmittel
DTSTAMP:20140405T215345
DESCRIPTION:Schuhe, Taschen und Möbel aus Ländern außerhalb der EU können durch das Antischimmelmittel DMF zu schweren Ausschlägen und Atemnot führen. Seit Mai dieses Jahres ist es in der EU verboten, derart belastete Waren auf den Markt zu bringen. Dennoch landet solche Ware noch immer im deutschen Handel.
SUMMARY:Anti-Schimmelmittel in Lederwaren – Gefahr für Verbraucher
END:VEVENT
END:VCALENDAR
