BEGIN:VCALENDAR
X-WR-TIMEZONE:Europe/Berlin
X-WR-CALNAME:rbb-Kalender
VERSION:2.0
METHOD:PUBLISH
CALSCALE:GREGORIAN
PRODID:rbb-CMS DAY
BEGIN:VEVENT
CLASS:PUBLIC
URL:http://www.rbb-online.de/content/rbb/rbb/kontraste/ueber_den_tag_hinaus/gesundheit/falsche_versprechen.html
DTEND:20051110T214500
DTSTART:20051110T214500
UID:/content/rbb/rbb/kontraste/ueber_den_tag_hinaus/gesundheit/falsche_versprechen
DTSTAMP:20140405T220126
DESCRIPTION:Für seine Anhänger ist er „ein Genie“, ein Vorbild und Vordenker. Er macht sie glauben, dass Krebs ohne Chemotherapie und Bestrahlung heilbar ist. Er behauptet, dass die Juden Schuld seien an den vielen Krebstoten in aller Welt. Er darf schon lange nicht mehr als Arzt arbeiten, er sitzt in Frankreich im Gefängnis, weil er dort illegal praktiziert hat. Er wird in Frankreich mit mehreren Todesfällen in Verbindung gebracht. Doch Ryke Geerd Hamer und seine „Germanische Neue Medizin“ werden trotzdem immer populärer. Mit tödlichen Folgen. Alexander Kobylinski und Caroline Walter über eine menschenverachtende und höchst gefährliche „Heilslehre“.
SUMMARY:Falsche Versprechen – die tödliche Gefahr der „Germanischen Neuen Medizin“
END:VEVENT
END:VCALENDAR
