BEGIN:VCALENDAR
X-WR-TIMEZONE:Europe/Berlin
X-WR-CALNAME:rbb-Kalender
VERSION:2.0
METHOD:PUBLISH
CALSCALE:GREGORIAN
PRODID:rbb-CMS DAY
BEGIN:VEVENT
CLASS:PUBLIC
URL:http://www.rbb-online.de/content/rbb/rbb/kontraste/ueber_den_tag_hinaus/gesundheit/gefahr_fuer_patienten.html
DTEND:20090528T214500
DTSTART:20090528T214500
UID:/content/rbb/rbb/kontraste/ueber_den_tag_hinaus/gesundheit/gefahr_fuer_patienten
DTSTAMP:20140405T220548
DESCRIPTION:In Deutschland gilt der Grundsatz: Forschung über die Anwendung von Arzneimitteln ist allein Sache der Pharmahersteller. Für unabhängige Studien gibt es kein Geld. Deshalb bleiben wichtige Fragen etwa zur Dosierung oder zur Dauer der Einnahme von Medikamenten ungeklärt. Hauptsache, der Umsatz der Pharma-Firmen stimmt. Leidtragende sind auch die Patienten. 
SUMMARY:Gefahr für Patienten - Keine unabhängigen Pharmastudien in Deutschland
END:VEVENT
END:VCALENDAR
