BEGIN:VCALENDAR
X-WR-TIMEZONE:Europe/Berlin
X-WR-CALNAME:rbb-Kalender
VERSION:2.0
METHOD:PUBLISH
CALSCALE:GREGORIAN
PRODID:rbb-CMS DAY
BEGIN:VEVENT
CLASS:PUBLIC
URL:http://www.rbb-online.de/content/rbb/rbb/kontraste/ueber_den_tag_hinaus/gesundheit/gesundheitsrisiken.html
DTEND:20070329T214500
DTSTART:20070329T214500
UID:/content/rbb/rbb/kontraste/ueber_den_tag_hinaus/gesundheit/gesundheitsrisiken
DTSTAMP:20140405T221138
DESCRIPTION:Um Kosten zu sparen, lassen viele Kliniken in Deutschland medizinische Einmalprodukte wiederaufbereiten. Dadurch können beispielsweise chirurgische Instrumente, die vom Hersteller nur für den einmaligen Gebrauch deklariert sind, mehrfach genutzt werden. Doch diese Form des Recycling kann Gefahren für Patienten mit sich bringen – von Infektionsrisiken bis hin zu Komplikationen bei der OP. Gesundheitsbehörden in vielen EU-Ländern haben längst Konsequenzen gezogen – die Aufbereitung von Einmalinstrumenten untersagt. Doch in Deutschland hat das Bundesgesundheitsministerium bis heute nicht gehandelt. Caroline Walter und Alexander Kobylinski haben recherchiert.
SUMMARY:Gesundheitsrisiken durch wiederaufbereite medizinische Einmalinstrumente – verantwortliche Gesundheitspolitiker greifen nicht ein
END:VEVENT
END:VCALENDAR
