BEGIN:VCALENDAR
X-WR-TIMEZONE:Europe/Berlin
X-WR-CALNAME:rbb-Kalender
VERSION:2.0
METHOD:PUBLISH
CALSCALE:GREGORIAN
PRODID:rbb-CMS DAY
BEGIN:VEVENT
CLASS:PUBLIC
URL:http://www.rbb-online.de/content/rbb/rbb/kontraste/ueber_den_tag_hinaus/gesundheit/infektionsrisiko_krankenhaus.html
DTEND:20090917T214500
DTSTART:20090917T214500
UID:/content/rbb/rbb/kontraste/ueber_den_tag_hinaus/gesundheit/infektionsrisiko_krankenhaus
DTSTAMP:20140405T221655
DESCRIPTION:Der KONTRASTE-Bericht über den tödlichen Krankenhaus-Keim MRSA hat viele Menschen alarmiert. Immer mehr Patienten berichten, was für verheerende Schäden der Erreger bei ihnen angerichtet hat. Krankenschwestern und Ärzte packen aus und erzählen über erschreckende Zustände in den Kliniken.
SUMMARY:Infektionsrisiko Krankenhaus – neue Berichte über tödliche Keime
END:VEVENT
END:VCALENDAR
