BEGIN:VCALENDAR
X-WR-TIMEZONE:Europe/Berlin
X-WR-CALNAME:rbb-Kalender
VERSION:2.0
METHOD:PUBLISH
CALSCALE:GREGORIAN
PRODID:rbb-CMS DAY
BEGIN:VEVENT
CLASS:PUBLIC
URL:http://www.rbb-online.de/content/rbb/rbb/kontraste/ueber_den_tag_hinaus/gesundheit/medikamente_auf_empfehlung.html
DTEND:20031204T214500
DTSTART:20031204T214500
UID:/content/rbb/rbb/kontraste/ueber_den_tag_hinaus/gesundheit/medikamente_auf_empfehlung
DTSTAMP:20140405T220638
DESCRIPTION:Schöne Reisen, wertvolle Geschenke, üppige Provisionen - als Arzt in Deutschland kann das Leben sehr angenehm sein. Vorausgesetzt man macht gemeinsame Sache mit der Pharma-Industrie. Um teure neue Produkte in den Markt zu drücken, bedienen sich die Hersteller immer noch in erster Linie willfähriger Ärzte, die gegen ein kleineres oder größeres "Dankeschön" für hohe Umsätze sorgen. Das Geschäft mit der Gesundheit blüht. Aber zahlen muss nur einer: Der Patient.
SUMMARY:Medikamente auf Empfehlung - wie die Pharmaindustrie Ärzte beeinflusst
END:VEVENT
END:VCALENDAR
