BEGIN:VCALENDAR
X-WR-TIMEZONE:Europe/Berlin
X-WR-CALNAME:rbb-Kalender
VERSION:2.0
METHOD:PUBLISH
CALSCALE:GREGORIAN
PRODID:rbb-CMS DAY
BEGIN:VEVENT
CLASS:PUBLIC
URL:http://www.rbb-online.de/content/rbb/rbb/kontraste/ueber_den_tag_hinaus/gesundheit/risikante_medizinprodukte.html
DTEND:20110317T220000
DTSTART:20110317T220000
UID:/content/rbb/rbb/kontraste/ueber_den_tag_hinaus/gesundheit/risikante_medizinprodukte
DTSTAMP:20140405T220802
DESCRIPTION:Ob künstliche Hüften oder Bandscheibenprothesen - die Hersteller versprechen den Patienten ein beschwerdefreies Leben. Doch wegen Schwachstellen bei der Zulassung kann die Industrie im Grunde selbst über Tests an ihren Produkten entscheiden. Die Folge: Es kommt immer wieder zu Rückrufaktionen mit zum Teil dramatischem Ausgang für die Patienten. Eine staatliche Kontrolle findet kaum statt.
SUMMARY:Risikante Medizinprodukte - kaum Kontrolle, wenig Sicherheit
END:VEVENT
END:VCALENDAR
