BEGIN:VCALENDAR
X-WR-TIMEZONE:Europe/Berlin
X-WR-CALNAME:rbb-Kalender
VERSION:2.0
METHOD:PUBLISH
CALSCALE:GREGORIAN
PRODID:rbb-CMS DAY
BEGIN:VEVENT
CLASS:PUBLIC
URL:http://www.rbb-online.de/content/rbb/rbb/kontraste/ueber_den_tag_hinaus/gesundheit/risiko_altenpflege.html
DTEND:20091112T214500
DTSTART:20091112T214500
UID:/content/rbb/rbb/kontraste/ueber_den_tag_hinaus/gesundheit/risiko_altenpflege
DTSTAMP:20140405T215715
DESCRIPTION:Die Anzahl pflegebedürftiger älterer Menschen in Deutschland wächst rapide. Ambulante und stationäre Pflegedienste suchen händeringend qualifiziertes Personal. Doch immer weniger junge Menschen entscheiden sich für diesen Beruf.
SUMMARY:Risiko Altenpflege - zu wenig Arbeitskräfte für immer mehr Pflegebedürftige
END:VEVENT
END:VCALENDAR
