BEGIN:VCALENDAR
X-WR-TIMEZONE:Europe/Berlin
X-WR-CALNAME:rbb-Kalender
VERSION:2.0
METHOD:PUBLISH
CALSCALE:GREGORIAN
PRODID:rbb-CMS DAY
BEGIN:VEVENT
CLASS:PUBLIC
URL:http://www.rbb-online.de/content/rbb/rbb/kontraste/ueber_den_tag_hinaus/gesundheit/risiko_arzneimittel.html
DTEND:20100624T214500
DTSTART:20100624T214500
UID:/content/rbb/rbb/kontraste/ueber_den_tag_hinaus/gesundheit/risiko_arzneimittel
DTSTAMP:20140405T220711
DESCRIPTION:Zu Risiken und Nebenwirkungen fragen Sie Ihren Arzt oder Apotheker – schön und gut. Aber was, wenn die Hersteller die Ärzte nur mangelhaft über Risiken ihrer Medikamente informieren? KONTRASTE deckt skrupellose Methoden der Pharmakonzerne auf und zeigt: Das System der Arzneimittelüberwachung funktioniert nicht.
SUMMARY:Risiko Arzneimittel - die Tricks der Pharmaindustrie
END:VEVENT
END:VCALENDAR
